BEGIN:VCALENDAR
VERSION:2.0
PRODID:-//Re-Imagine Europe //NONSGML Events //EN
CALSCALE:GREGORIAN
X-WR-CALNAME:Re-Imagine Europe
BEGIN:VEVENT
CREATED:20231027T094954Z
UID:20519
DTSTART;VALUE=DATE:20231116
DTSTAMP:20260419T152547Z
LOCATION:Re-Imagine Europe
SUMMARY:The Only Lasting Truth is Change 2023
URL;VALUE=URI:https://re-imagine-europe.eu/calendar/the-only-lasting-truth-is-change/
TRANSP:OPAQUE
BEGIN:VALARM
TRIGGER;VALUE=DATE-TIME:20231116
ACTION:DISPLAY
DESCRIPTION:Reminder for The Only Lasting Truth is Change 2023
END:VALARM
END:VEVENT
END:VCALENDAR
