BEGIN:VCALENDAR
VERSION:2.0
PRODID:-//Re-Imagine Europe //NONSGML Events //EN
CALSCALE:GREGORIAN
X-WR-CALNAME:Re-Imagine Europe
BEGIN:VEVENT
CREATED:20231025T081535Z
UID:20663
DTSTART;VALUE=DATE:20231028
DTSTAMP:20260419T150100Z
LOCATION:Re-Imagine Europe
SUMMARY:Improvisation Practices – a workshop by Anja Lauvdal
URL;VALUE=URI:https://re-imagine-europe.eu/calendar/anja-lauvdal-live-improvisation-workshop/
TRANSP:OPAQUE
BEGIN:VALARM
TRIGGER;VALUE=DATE-TIME:20231028
ACTION:DISPLAY
DESCRIPTION:Reminder for Improvisation Practices &#8211\; a workshop by Anja Lauvdal
END:VALARM
END:VEVENT
END:VCALENDAR
