BEGIN:VCALENDAR
VERSION:2.0
PRODID:-//Re-Imagine Europe //NONSGML Events //EN
CALSCALE:GREGORIAN
X-WR-CALNAME:Re-Imagine Europe
BEGIN:VEVENT
CREATED:20231114T153950Z
UID:20969
DTSTART;VALUE=DATE:20231129
DTSTAMP:20260419T122229Z
LOCATION:Re-Imagine Europe
SUMMARY:NEXT Festival 2023
URL;VALUE=URI:https://re-imagine-europe.eu/calendar/next-festival-2023/
TRANSP:OPAQUE
BEGIN:VALARM
TRIGGER;VALUE=DATE-TIME:20231129
ACTION:DISPLAY
DESCRIPTION:Reminder for NEXT Festival 2023
END:VALARM
END:VEVENT
END:VCALENDAR
