BEGIN:VCALENDAR
VERSION:2.0
PRODID:-//Re-Imagine Europe //NONSGML Events //EN
CALSCALE:GREGORIAN
X-WR-CALNAME:Re-Imagine Europe
BEGIN:VEVENT
CREATED:20240227T143942Z
UID:21682
DTSTART;VALUE=DATE:20231118
DTSTAMP:20260421T080528Z
LOCATION:Re-Imagine Europe
SUMMARY:Bahar Noorizadeh & Klara Kofen – Performance Admiror
URL;VALUE=URI:https://re-imagine-europe.eu/calendar/bahar-noorizadeh-klara-kofen-performance-admiror/
TRANSP:OPAQUE
BEGIN:VALARM
TRIGGER;VALUE=DATE-TIME:20231118
ACTION:DISPLAY
DESCRIPTION:Reminder for Bahar Noorizadeh &#038\; Klara Kofen &#8211\; Performance Admiror
END:VALARM
END:VEVENT
END:VCALENDAR
